
BEGIN:VCALENDAR
VERSION:2.0
PRODID:spatie/icalendar-generator
DESCRIPTION:Events from ASFIZ - UAIC
X-WR-CALDESC:Events from ASFIZ - UAIC
REFRESH-INTERVAL;VALUE=DURATION:PT1440M
X-PUBLISHED-TTL:PT1440M
BEGIN:VTIMEZONE
TZID:Europe/Bucharest
BEGIN:STANDARD
DTSTART:20241027T040000Z
TZOFFSETFROM:+0300
TZOFFSETTO:+0200
END:STANDARD
BEGIN:DAYLIGHT
DTSTART:20250330T030000Z
TZOFFSETFROM:+0200
TZOFFSETTO:+0300
END:DAYLIGHT
END:VTIMEZONE
BEGIN:VTIMEZONE
TZID:UTC
BEGIN:STANDARD
DTSTART:20250728T075153Z
TZOFFSETFROM:+0000
TZOFFSETTO:+0000
END:STANDARD
END:VTIMEZONE
BEGIN:VEVENT
UID:20-15
DTSTAMP:20260424T075153Z
SUMMARY:Apropiere intre luna si M45
LOCATION:
ORGANIZER;CN=Muraru Silviu Andrei:MAILTO:silviuandrei2002@gmail.com
DTSTART;TZID=Europe/Bucharest;VALUE=DATE:20250110
DTEND;TZID=Europe/Bucharest;VALUE=DATE:20250111
X-ALT-DESC;FMTTYPE=TEXT/HTML:<p>Luna va fi un bun reper de localizare.</p>\
 n<p>M45 face parte din catalogul Messier.</p>\n
CATEGORIES:General
URL;VALUE=URI:https://asfiz.com/mc-events/apropiere-intre-luna-si-m45/
METHOD:PUBLISH
END:VEVENT
END:VCALENDAR