
BEGIN:VCALENDAR
VERSION:2.0
PRODID:spatie/icalendar-generator
DESCRIPTION:Events from ASFIZ - UAIC
X-WR-CALDESC:Events from ASFIZ - UAIC
REFRESH-INTERVAL;VALUE=DURATION:PT1440M
X-PUBLISHED-TTL:PT1440M
BEGIN:VTIMEZONE
TZID:Europe/Bucharest
BEGIN:STANDARD
DTSTART:20241027T040000Z
TZOFFSETFROM:+0300
TZOFFSETTO:+0200
END:STANDARD
BEGIN:DAYLIGHT
DTSTART:20250330T030000Z
TZOFFSETFROM:+0200
TZOFFSETTO:+0300
END:DAYLIGHT
END:VTIMEZONE
BEGIN:VTIMEZONE
TZID:UTC
BEGIN:STANDARD
DTSTART:20250725T030301Z
TZOFFSETFROM:+0000
TZOFFSETTO:+0000
END:STANDARD
END:VTIMEZONE
BEGIN:VEVENT
UID:24-19
DTSTAMP:20260421T030301Z
SUMMARY:Luna plina
LOCATION:
ORGANIZER;CN=Muraru Silviu Andrei:MAILTO:silviuandrei2002@gmail.com
DTSTART;TZID=Europe/Bucharest:20250114T000000
DTEND;TZID=Europe/Bucharest:20250114T010000
X-ALT-DESC;FMTTYPE=TEXT/HTML:<p>Luna va fi\, de asemenea\, in afeliu\, in c
 onjunctie cu planeta Marte si cu  o distanta relativ mica intre ele.</p>\n
CATEGORIES:General
URL;VALUE=URI:https://asfiz.com/mc-events/luna-plina/
METHOD:PUBLISH
END:VEVENT
END:VCALENDAR