
BEGIN:VCALENDAR
VERSION:2.0
PRODID:spatie/icalendar-generator
DESCRIPTION:Events from ASFIZ - UAIC
X-WR-CALDESC:Events from ASFIZ - UAIC
REFRESH-INTERVAL;VALUE=DURATION:PT1440M
X-PUBLISHED-TTL:PT1440M
BEGIN:VTIMEZONE
TZID:Europe/Bucharest
BEGIN:STANDARD
DTSTART:20241027T040000Z
TZOFFSETFROM:+0300
TZOFFSETTO:+0200
END:STANDARD
BEGIN:DAYLIGHT
DTSTART:20250330T030000Z
TZOFFSETFROM:+0200
TZOFFSETTO:+0300
END:DAYLIGHT
BEGIN:STANDARD
DTSTART:20251026T040000Z
TZOFFSETFROM:+0300
TZOFFSETTO:+0200
END:STANDARD
END:VTIMEZONE
BEGIN:VTIMEZONE
TZID:UTC
BEGIN:STANDARD
DTSTART:20250730T033051Z
TZOFFSETFROM:+0000
TZOFFSETTO:+0000
END:STANDARD
END:VTIMEZONE
BEGIN:VEVENT
UID:78-70
DTSTAMP:20260426T033051Z
SUMMARY:Luna Noua la perigeu
LOCATION:Iași
ORGANIZER;CN=Muraru Silviu Andrei:MAILTO:silviuandrei2002@gmail.com
DTSTART;TZID=Europe/Bucharest;VALUE=DATE:20250527
DTEND;TZID=Europe/Bucharest;VALUE=DATE:20250528
X-ALT-DESC;FMTTYPE=TEXT/HTML:<p>Cerul va fi intunecat\, ceea ce face noapte
 a ideala pentru observarea altor obiecte ceresti.  Desi satelitul natural 
 se va afla la distanta minima fata de noi (ceea ce l-ar face sa para mult 
 mai mare)\, el nu va fi vizibil pentru ca nu va fi luminat.</p>\n<p>Pentru
  mai multe informatii\, click pe \"Read More\":</p>\n
CATEGORIES:General
URL;VALUE=URI:https://asfiz.com/mc-events/luna-noua-la-perigeu-2/
METHOD:PUBLISH
END:VEVENT
END:VCALENDAR